BEGIN:VCALENDAR
VERSION:2.0
PRODID:-//Goldgrube//myauktion.com//AT
CALSCALE:GREGORIAN
BEGIN:VEVENT
DTSTART:20260506T124500
DTEND:20260506T124530
LOCATION:Gewerbepark 13, 8562 Mooskirchen
DTSTAMP:20260423T002502
SUMMARY:MyAuktion: Ablauf Artikel Nr. 957896 A1 Hybrid Box DN9245X6 
URL;VALUE=URI:https://www.myauktion.com/versteigerung7656-position2442718-a1-hybrid-box-dn9245x6.php
DESCRIPTION:Gebraucht verschmutzt 
UID:myauktion-7656-2442718
BEGIN:VALARM
ACTION:DISPLAY
DESCRIPTION:Gebraucht verschmutzt 
TRIGGER:-PT10M
END:VALARM
END:VEVENT
END:VCALENDAR