BEGIN:VCALENDAR
VERSION:2.0
PRODID:-//Goldgrube//myauktion.com//AT
CALSCALE:GREGORIAN
BEGIN:VEVENT
DTSTART:20260506T112000
DTEND:20260506T112030
LOCATION:Gewerbepark 13, 8562 Mooskirchen
DTSTAMP:20260424T122005
SUMMARY:MyAuktion: Ablauf Artikel Nr. 957169 Item Standard-Verbindungssatz 8R
URL;VALUE=URI:https://www.myauktion.com/versteigerung7656-position2442719-item-standard-verbindungssatz-8r.php
DESCRIPTION:item Nr.: 0.0.421.75
UID:myauktion-7656-2442719
BEGIN:VALARM
ACTION:DISPLAY
DESCRIPTION:item Nr.: 0.0.421.75
TRIGGER:-PT10M
END:VALARM
END:VEVENT
END:VCALENDAR