BEGIN:VCALENDAR
VERSION:2.0
PRODID:-//Goldgrube//myauktion.com//AT
CALSCALE:GREGORIAN
BEGIN:VEVENT
DTSTART:20260506T112300
DTEND:20260506T112330
LOCATION:Gewerbepark 13, 8562 Mooskirchen
DTSTAMP:20260424T122006
SUMMARY:MyAuktion: Ablauf Artikel Nr. 957172 Zylinderschrauben mit ISK
URL;VALUE=URI:https://www.myauktion.com/versteigerung7656-position2442724-zylinderschrauben-mit-isk.php
DESCRIPTION:DIN 912/ISO 4762/8.8 verzinkt M 8×20
UID:myauktion-7656-2442724
BEGIN:VALARM
ACTION:DISPLAY
DESCRIPTION:DIN 912/ISO 4762/8.8 verzinkt M 8×20
TRIGGER:-PT10M
END:VALARM
END:VEVENT
END:VCALENDAR