BEGIN:VCALENDAR
VERSION:2.0
PRODID:-//Goldgrube//myauktion.com//AT
CALSCALE:GREGORIAN
BEGIN:VEVENT
DTSTART:20260506T125200
DTEND:20260506T125230
LOCATION:Gewerbepark 13, 8562 Mooskirchen
DTSTAMP:20260423T002502
SUMMARY:MyAuktion: Ablauf Artikel Nr. 957899 Window Cleaning Roboter Model: X11 Pro Farbe: Galaxy Silver 
URL;VALUE=URI:https://www.myauktion.com/versteigerung7656-position2442725-window-cleaning-roboter-model-x11-pro-farbe-galaxy-silver.php
DESCRIPTION:Gebraucht 
UID:myauktion-7656-2442725
BEGIN:VALARM
ACTION:DISPLAY
DESCRIPTION:Gebraucht 
TRIGGER:-PT10M
END:VALARM
END:VEVENT
END:VCALENDAR