BEGIN:VCALENDAR
VERSION:2.0
PRODID:-//Goldgrube//myauktion.com//AT
CALSCALE:GREGORIAN
BEGIN:VEVENT
DTSTART:20260506T112400
DTEND:20260506T112430
LOCATION:Gewerbepark 13, 8562 Mooskirchen
DTSTAMP:20260424T122005
SUMMARY:MyAuktion: Ablauf Artikel Nr. 957173 Sauerstoff-Inhalationsbox für Welpen, Kätzchen, Hamster etc
URL;VALUE=URI:https://www.myauktion.com/versteigerung7656-position2442726-sauerstoff-inhalationsbox-fuer-welpen-kaetzchen-hamster-etc.php
DESCRIPTION:Gebraucht, Ca 39×29cm
UID:myauktion-7656-2442726
BEGIN:VALARM
ACTION:DISPLAY
DESCRIPTION:Gebraucht, Ca 39×29cm
TRIGGER:-PT10M
END:VALARM
END:VEVENT
END:VCALENDAR