BEGIN:VCALENDAR
VERSION:2.0
PRODID:-//Goldgrube//myauktion.com//AT
CALSCALE:GREGORIAN
BEGIN:VEVENT
DTSTART:20260506T125300
DTEND:20260506T125330
LOCATION:Gewerbepark 13, 8562 Mooskirchen
DTSTAMP:20260423T002503
SUMMARY:MyAuktion: Ablauf Artikel Nr. 957900 Star Okey VIP Wooden Rummy set 
URL;VALUE=URI:https://www.myauktion.com/versteigerung7656-position2442728-star-okey-vip-wooden-rummy-set.php
DESCRIPTION:
UID:myauktion-7656-2442728
BEGIN:VALARM
ACTION:DISPLAY
DESCRIPTION:
TRIGGER:-PT10M
END:VALARM
END:VEVENT
END:VCALENDAR