BEGIN:VCALENDAR
VERSION:2.0
PRODID:-//Goldgrube//myauktion.com//AT
CALSCALE:GREGORIAN
BEGIN:VEVENT
DTSTART:20260506T101000
DTEND:20260506T101030
LOCATION:Gewerbepark 13, 8562 Mooskirchen
DTSTAMP:20260424T122010
SUMMARY:MyAuktion: Ablauf Artikel Nr. 956997 Salomon Patrol Pro black 
URL;VALUE=URI:https://www.myauktion.com/versteigerung7656-position2442733-salomon-patrol-pro-black.php
DESCRIPTION:Gr. XL (59,5-60&#39;5) 
UID:myauktion-7656-2442733
BEGIN:VALARM
ACTION:DISPLAY
DESCRIPTION:Gr. XL (59,5-60&#39;5) 
TRIGGER:-PT10M
END:VALARM
END:VEVENT
END:VCALENDAR