BEGIN:VCALENDAR
VERSION:2.0
PRODID:-//Goldgrube//myauktion.com//AT
CALSCALE:GREGORIAN
BEGIN:VEVENT
DTSTART:20260506T101600
DTEND:20260506T101630
LOCATION:Gewerbepark 13, 8562 Mooskirchen
DTSTAMP:20260424T122007
SUMMARY:MyAuktion: Ablauf Artikel Nr. 957000 Hanska Einweg Handschuhe pink je 100Paar 
URL;VALUE=URI:https://www.myauktion.com/versteigerung7656-position2442737-hanska-einweg-handschuhe-pink-je-100paar.php
DESCRIPTION:Gr. S 
UID:myauktion-7656-2442737
BEGIN:VALARM
ACTION:DISPLAY
DESCRIPTION:Gr. S 
TRIGGER:-PT10M
END:VALARM
END:VEVENT
END:VCALENDAR