BEGIN:VCALENDAR
VERSION:2.0
PRODID:-//Goldgrube//myauktion.com//AT
CALSCALE:GREGORIAN
BEGIN:VEVENT
DTSTART:20260506T112800
DTEND:20260506T112830
LOCATION:Gewerbepark 13, 8562 Mooskirchen
DTSTAMP:20260424T122006
SUMMARY:MyAuktion: Ablauf Artikel Nr. 957177 Dyson Corrale Haarglätter
URL;VALUE=URI:https://www.myauktion.com/versteigerung7656-position2442739-dyson-corrale-haarglaetter.php
DESCRIPTION:Serien Nr. F1C-EU-NGK5060A
UID:myauktion-7656-2442739
BEGIN:VALARM
ACTION:DISPLAY
DESCRIPTION:Serien Nr. F1C-EU-NGK5060A
TRIGGER:-PT10M
END:VALARM
END:VEVENT
END:VCALENDAR