BEGIN:VCALENDAR
VERSION:2.0
PRODID:-//Goldgrube//myauktion.com//AT
CALSCALE:GREGORIAN
BEGIN:VEVENT
DTSTART:20260506T102300
DTEND:20260506T102330
LOCATION:Gewerbepark 13, 8562 Mooskirchen
DTSTAMP:20260424T122004
SUMMARY:MyAuktion: Ablauf Artikel Nr. 957003 Kontra K Box 
URL;VALUE=URI:https://www.myauktion.com/versteigerung7656-position2442742-kontra-k-box.php
DESCRIPTION:<div>Gr. XXL / Verpackung beschädigt</div>
UID:myauktion-7656-2442742
BEGIN:VALARM
ACTION:DISPLAY
DESCRIPTION:<div>Gr. XXL / Verpackung beschädigt</div>
TRIGGER:-PT10M
END:VALARM
END:VEVENT
END:VCALENDAR