BEGIN:VCALENDAR
VERSION:2.0
PRODID:-//Goldgrube//myauktion.com//AT
CALSCALE:GREGORIAN
BEGIN:VEVENT
DTSTART:20260506T102600
DTEND:20260506T102630
LOCATION:Gewerbepark 13, 8562 Mooskirchen
DTSTAMP:20260424T122008
SUMMARY:MyAuktion: Ablauf Artikel Nr. 957006 Bosch Rear H306 1x300mm 
URL;VALUE=URI:https://www.myauktion.com/versteigerung7656-position2442747-bosch-rear-h306-1x300mm.php
DESCRIPTION:
UID:myauktion-7656-2442747
BEGIN:VALARM
ACTION:DISPLAY
DESCRIPTION:
TRIGGER:-PT10M
END:VALARM
END:VEVENT
END:VCALENDAR