BEGIN:VCALENDAR
VERSION:2.0
PRODID:-//Goldgrube//myauktion.com//AT
CALSCALE:GREGORIAN
BEGIN:VEVENT
DTSTART:20260506T125700
DTEND:20260506T125730
LOCATION:Gewerbepark 13, 8562 Mooskirchen
DTSTAMP:20260423T002503
SUMMARY:MyAuktion: Ablauf Artikel Nr. 957904 ZTE Model: MC888A A1 Cube 5G Modelkennung: STC-A1215C55A-A
URL;VALUE=URI:https://www.myauktion.com/versteigerung7656-position2442750-zte-model-mc888a-a1-cube-5g-modelkennung-stc-a1215c55a-a.php
DESCRIPTION:
UID:myauktion-7656-2442750
BEGIN:VALARM
ACTION:DISPLAY
DESCRIPTION:
TRIGGER:-PT10M
END:VALARM
END:VEVENT
END:VCALENDAR