BEGIN:VCALENDAR
VERSION:2.0
PRODID:-//Goldgrube//myauktion.com//AT
CALSCALE:GREGORIAN
BEGIN:VEVENT
DTSTART:20260506T103000
DTEND:20260506T103030
LOCATION:Gewerbepark 13, 8562 Mooskirchen
DTSTAMP:20260422T224010
SUMMARY:MyAuktion: Ablauf Artikel Nr. 957010 Bosch Aero Twin AR989S 2x 575mm / 400mm 
URL;VALUE=URI:https://www.myauktion.com/versteigerung7656-position2442753-bosch-aero-twin-ar989s-2x-575mm---400mm.php
DESCRIPTION:
UID:myauktion-7656-2442753
BEGIN:VALARM
ACTION:DISPLAY
DESCRIPTION:
TRIGGER:-PT10M
END:VALARM
END:VEVENT
END:VCALENDAR