BEGIN:VCALENDAR
VERSION:2.0
PRODID:-//Goldgrube//myauktion.com//AT
CALSCALE:GREGORIAN
BEGIN:VEVENT
DTSTART:20260506T113200
DTEND:20260506T113230
LOCATION:Gewerbepark 13, 8562 Mooskirchen
DTSTAMP:20260424T122008
SUMMARY:MyAuktion: Ablauf Artikel Nr. 957180 Gold- Bilderrahmen 6er Pack
URL;VALUE=URI:https://www.myauktion.com/versteigerung7656-position2442755-gold-bilderrahmen-6er-pack.php
DESCRIPTION:Ca 19,5×14cm, 6er Pack 
UID:myauktion-7656-2442755
BEGIN:VALARM
ACTION:DISPLAY
DESCRIPTION:Ca 19,5×14cm, 6er Pack 
TRIGGER:-PT10M
END:VALARM
END:VEVENT
END:VCALENDAR