BEGIN:VCALENDAR
VERSION:2.0
PRODID:-//Goldgrube//myauktion.com//AT
CALSCALE:GREGORIAN
BEGIN:VEVENT
DTSTART:20260506T103400
DTEND:20260506T103430
LOCATION:Gewerbepark 13, 8562 Mooskirchen
DTSTAMP:20260424T122004
SUMMARY:MyAuktion: Ablauf Artikel Nr. 957013 Next Set of 2 Gin Glasses 
URL;VALUE=URI:https://www.myauktion.com/versteigerung7656-position2442757-next-set-of-2-gin-glasses.php
DESCRIPTION:
UID:myauktion-7656-2442757
BEGIN:VALARM
ACTION:DISPLAY
DESCRIPTION:
TRIGGER:-PT10M
END:VALARM
END:VEVENT
END:VCALENDAR