BEGIN:VCALENDAR
VERSION:2.0
PRODID:-//Goldgrube//myauktion.com//AT
CALSCALE:GREGORIAN
BEGIN:VEVENT
DTSTART:20260506T113300
DTEND:20260506T113330
LOCATION:Gewerbepark 13, 8562 Mooskirchen
DTSTAMP:20260424T122007
SUMMARY:MyAuktion: Ablauf Artikel Nr. 957181 Renegade REN18SD AluButyl Sound Dämmung
URL;VALUE=URI:https://www.myauktion.com/versteigerung7656-position2442760-renegade-ren18sd-alubutyl-sound-daemmung.php
DESCRIPTION:500mm Breit & 2960mm Lang
UID:myauktion-7656-2442760
BEGIN:VALARM
ACTION:DISPLAY
DESCRIPTION:500mm Breit & 2960mm Lang
TRIGGER:-PT10M
END:VALARM
END:VEVENT
END:VCALENDAR