BEGIN:VCALENDAR
VERSION:2.0
PRODID:-//Goldgrube//myauktion.com//AT
CALSCALE:GREGORIAN
BEGIN:VEVENT
DTSTART:20260506T103600
DTEND:20260506T103630
LOCATION:Gewerbepark 13, 8562 Mooskirchen
DTSTAMP:20260424T122004
SUMMARY:MyAuktion: Ablauf Artikel Nr. 957015 Thule Gepäckträger 
URL;VALUE=URI:https://www.myauktion.com/versteigerung7656-position2442761-thule-gepaecktraeger.php
DESCRIPTION:Gebraucht 
UID:myauktion-7656-2442761
BEGIN:VALARM
ACTION:DISPLAY
DESCRIPTION:Gebraucht 
TRIGGER:-PT10M
END:VALARM
END:VEVENT
END:VCALENDAR