BEGIN:VCALENDAR
VERSION:2.0
PRODID:-//Goldgrube//myauktion.com//AT
CALSCALE:GREGORIAN
BEGIN:VEVENT
DTSTART:20260506T130000
DTEND:20260506T130030
LOCATION:Gewerbepark 13, 8562 Mooskirchen
DTSTAMP:20260422T180119
SUMMARY:MyAuktion: Ablauf Artikel Nr. 957906 Russell Hobbs Sandwich Maker creations 3 in 1 
URL;VALUE=URI:https://www.myauktion.com/versteigerung7656-position2442762-russell-hobbs-sandwich-maker-creations-3-in-1.php
DESCRIPTION:
UID:myauktion-7656-2442762
BEGIN:VALARM
ACTION:DISPLAY
DESCRIPTION:
TRIGGER:-PT10M
END:VALARM
END:VEVENT
END:VCALENDAR