BEGIN:VCALENDAR
VERSION:2.0
PRODID:-//Goldgrube//myauktion.com//AT
CALSCALE:GREGORIAN
BEGIN:VEVENT
DTSTART:20260506T103700
DTEND:20260506T103730
LOCATION:Gewerbepark 13, 8562 Mooskirchen
DTSTAMP:20260424T122010
SUMMARY:MyAuktion: Ablauf Artikel Nr. 957016 Diverses Regal aus Kunststoff 
URL;VALUE=URI:https://www.myauktion.com/versteigerung7656-position2442764-diverses-regal-aus-kunststoff.php
DESCRIPTION:Keine weiteren Daten ersichtlich
UID:myauktion-7656-2442764
BEGIN:VALARM
ACTION:DISPLAY
DESCRIPTION:Keine weiteren Daten ersichtlich
TRIGGER:-PT10M
END:VALARM
END:VEVENT
END:VCALENDAR