BEGIN:VCALENDAR
VERSION:2.0
PRODID:-//Goldgrube//myauktion.com//AT
CALSCALE:GREGORIAN
BEGIN:VEVENT
DTSTART:20260506T130100
DTEND:20260506T130130
LOCATION:Gewerbepark 13, 8562 Mooskirchen
DTSTAMP:20260424T122011
SUMMARY:MyAuktion: Ablauf Artikel Nr. 957907 Beschläge für Fallttüren 40 Zoll - 2 Türen 
URL;VALUE=URI:https://www.myauktion.com/versteigerung7656-position2442765-beschlaege-fuer-fallttueren-40-zoll-2-tueren.php
DESCRIPTION:
UID:myauktion-7656-2442765
BEGIN:VALARM
ACTION:DISPLAY
DESCRIPTION:
TRIGGER:-PT10M
END:VALARM
END:VEVENT
END:VCALENDAR