BEGIN:VCALENDAR
VERSION:2.0
PRODID:-//Goldgrube//myauktion.com//AT
CALSCALE:GREGORIAN
BEGIN:VEVENT
DTSTART:20260506T103900
DTEND:20260506T103930
LOCATION:Gewerbepark 13, 8562 Mooskirchen
DTSTAMP:20260424T122013
SUMMARY:MyAuktion: Ablauf Artikel Nr. 957018 Spurstangenkopf Abzieher 5tlg. 
URL;VALUE=URI:https://www.myauktion.com/versteigerung7656-position2442767-spurstangenkopf-abzieher-5tlg.php
DESCRIPTION:
UID:myauktion-7656-2442767
BEGIN:VALARM
ACTION:DISPLAY
DESCRIPTION:
TRIGGER:-PT10M
END:VALARM
END:VEVENT
END:VCALENDAR