BEGIN:VCALENDAR
VERSION:2.0
PRODID:-//Goldgrube//myauktion.com//AT
CALSCALE:GREGORIAN
BEGIN:VEVENT
DTSTART:20260506T113700
DTEND:20260506T113730
LOCATION:Gewerbepark 13, 8562 Mooskirchen
DTSTAMP:20260424T122008
SUMMARY:MyAuktion: Ablauf Artikel Nr. 957183 VidaXL Throw Decke 
URL;VALUE=URI:https://www.myauktion.com/versteigerung7656-position2442768-vidaxl-throw-decke.php
DESCRIPTION:Art.No. 245320, gebraucht, ca 200×180cm
UID:myauktion-7656-2442768
BEGIN:VALARM
ACTION:DISPLAY
DESCRIPTION:Art.No. 245320, gebraucht, ca 200×180cm
TRIGGER:-PT10M
END:VALARM
END:VEVENT
END:VCALENDAR