BEGIN:VCALENDAR
VERSION:2.0
PRODID:-//Goldgrube//myauktion.com//AT
CALSCALE:GREGORIAN
BEGIN:VEVENT
DTSTART:20260506T104000
DTEND:20260506T104030
LOCATION:Gewerbepark 13, 8562 Mooskirchen
DTSTAMP:20260424T122010
SUMMARY:MyAuktion: Ablauf Artikel Nr. 957019 Lenkrollen 4Stk Platte ca. 8x10cm Reifen ø7cm 
URL;VALUE=URI:https://www.myauktion.com/versteigerung7656-position2442769-lenkrollen-4stk-platte-ca-8x10cm-reifen-7cm.php
DESCRIPTION:
UID:myauktion-7656-2442769
BEGIN:VALARM
ACTION:DISPLAY
DESCRIPTION:
TRIGGER:-PT10M
END:VALARM
END:VEVENT
END:VCALENDAR