BEGIN:VCALENDAR
VERSION:2.0
PRODID:-//Goldgrube//myauktion.com//AT
CALSCALE:GREGORIAN
BEGIN:VEVENT
DTSTART:20260506T130200
DTEND:20260506T130230
LOCATION:Gewerbepark 13, 8562 Mooskirchen
DTSTAMP:20260424T122007
SUMMARY:MyAuktion: Ablauf Artikel Nr. 957908 Bejoy 2 in 1 Floor Chair Bund 43.5x28x18cm 
URL;VALUE=URI:https://www.myauktion.com/versteigerung7656-position2442770-bejoy-2-in-1-floor-chair-bund-435x28x18cm.php
DESCRIPTION:
UID:myauktion-7656-2442770
BEGIN:VALARM
ACTION:DISPLAY
DESCRIPTION:
TRIGGER:-PT10M
END:VALARM
END:VEVENT
END:VCALENDAR