BEGIN:VCALENDAR
VERSION:2.0
PRODID:-//Goldgrube//myauktion.com//AT
CALSCALE:GREGORIAN
BEGIN:VEVENT
DTSTART:20260506T104100
DTEND:20260506T104130
LOCATION:Gewerbepark 13, 8562 Mooskirchen
DTSTAMP:20260424T144438
SUMMARY:MyAuktion: Ablauf Artikel Nr. 957020 Rubber Heavy DutySwivel Transport Castor 4x ø125mm 
URL;VALUE=URI:https://www.myauktion.com/versteigerung7656-position2442771-rubber-heavy-dutyswivel-transport-castor-4x-125mm.php
DESCRIPTION:
UID:myauktion-7656-2442771
BEGIN:VALARM
ACTION:DISPLAY
DESCRIPTION:
TRIGGER:-PT10M
END:VALARM
END:VEVENT
END:VCALENDAR