BEGIN:VCALENDAR
VERSION:2.0
PRODID:-//Goldgrube//myauktion.com//AT
CALSCALE:GREGORIAN
BEGIN:VEVENT
DTSTART:20260506T104300
DTEND:20260506T104330
LOCATION:Gewerbepark 13, 8562 Mooskirchen
DTSTAMP:20260424T122011
SUMMARY:MyAuktion: Ablauf Artikel Nr. 957022 HP Druckerpapier A4 5x500Stk 
URL;VALUE=URI:https://www.myauktion.com/versteigerung7656-position2442773-hp-druckerpapier-a4-5x500stk.php
DESCRIPTION:Verpackung beschädigt 
UID:myauktion-7656-2442773
BEGIN:VALARM
ACTION:DISPLAY
DESCRIPTION:Verpackung beschädigt 
TRIGGER:-PT10M
END:VALARM
END:VEVENT
END:VCALENDAR