BEGIN:VCALENDAR
VERSION:2.0
PRODID:-//Goldgrube//myauktion.com//AT
CALSCALE:GREGORIAN
BEGIN:VEVENT
DTSTART:20260506T104400
DTEND:20260506T104430
LOCATION:Gewerbepark 13, 8562 Mooskirchen
DTSTAMP:20260424T122009
SUMMARY:MyAuktion: Ablauf Artikel Nr. 957023 Möbelfüße 4er Set ca. 40x20cm 
URL;VALUE=URI:https://www.myauktion.com/versteigerung7656-position2442774-moebelfuesse-4er-set-ca-40x20cm.php
DESCRIPTION:
UID:myauktion-7656-2442774
BEGIN:VALARM
ACTION:DISPLAY
DESCRIPTION:
TRIGGER:-PT10M
END:VALARM
END:VEVENT
END:VCALENDAR