BEGIN:VCALENDAR
VERSION:2.0
PRODID:-//Goldgrube//myauktion.com//AT
CALSCALE:GREGORIAN
BEGIN:VEVENT
DTSTART:20260506T120200
DTEND:20260506T120230
LOCATION:Gewerbepark 13, 8562 Mooskirchen
DTSTAMP:20260422T224015
SUMMARY:MyAuktion: Ablauf Artikel Nr. 957612 Avety Zweckform Ultragrip  Universal Etiketten 3474-200 220Blatt
URL;VALUE=URI:https://www.myauktion.com/versteigerung7656-position2442800-avety-zweckform-ultragrip-universal-etiketten-3474-200-220blatt.php
DESCRIPTION:
UID:myauktion-7656-2442800
BEGIN:VALARM
ACTION:DISPLAY
DESCRIPTION:
TRIGGER:-PT10M
END:VALARM
END:VEVENT
END:VCALENDAR