BEGIN:VCALENDAR
VERSION:2.0
PRODID:-//Goldgrube//myauktion.com//AT
CALSCALE:GREGORIAN
BEGIN:VEVENT
DTSTART:20260506T120500
DTEND:20260506T120530
LOCATION:Gewerbepark 13, 8562 Mooskirchen
DTSTAMP:20260422T224009
SUMMARY:MyAuktion: Ablauf Artikel Nr. 957613 Avery Zweckform iltragrip Universal Etiketten 100Blatt 3422 
URL;VALUE=URI:https://www.myauktion.com/versteigerung7656-position2442804-avery-zweckform-iltragrip-universal-etiketten-100blatt-3422.php
DESCRIPTION:
UID:myauktion-7656-2442804
BEGIN:VALARM
ACTION:DISPLAY
DESCRIPTION:
TRIGGER:-PT10M
END:VALARM
END:VEVENT
END:VCALENDAR