BEGIN:VCALENDAR
VERSION:2.0
PRODID:-//Goldgrube//myauktion.com//AT
CALSCALE:GREGORIAN
BEGIN:VEVENT
DTSTART:20260506T105500
DTEND:20260506T105530
LOCATION:Gewerbepark 13, 8562 Mooskirchen
DTSTAMP:20260424T122003
SUMMARY:MyAuktion: Ablauf Artikel Nr. 957146 Brembo Bremsscheibe 
URL;VALUE=URI:https://www.myauktion.com/versteigerung7656-position2442806-brembo-bremsscheibe.php
DESCRIPTION:No. 09.D771.11, Min Th 28,8mm
UID:myauktion-7656-2442806
BEGIN:VALARM
ACTION:DISPLAY
DESCRIPTION:No. 09.D771.11, Min Th 28,8mm
TRIGGER:-PT10M
END:VALARM
END:VEVENT
END:VCALENDAR