BEGIN:VCALENDAR
VERSION:2.0
PRODID:-//Goldgrube//myauktion.com//AT
CALSCALE:GREGORIAN
BEGIN:VEVENT
DTSTART:20260506T110800
DTEND:20260506T110830
LOCATION:Gewerbepark 13, 8562 Mooskirchen
DTSTAMP:20260424T122009
SUMMARY:MyAuktion: Ablauf Artikel Nr. 957158 Ubiquiti UniFi G5 Pro Überwachungskamera
URL;VALUE=URI:https://www.myauktion.com/versteigerung7656-position2442815-ubiquiti-unifi-g5-pro-berwachungskamera.php
DESCRIPTION:Model UVC-G6-Bullet-W
UID:myauktion-7656-2442815
BEGIN:VALARM
ACTION:DISPLAY
DESCRIPTION:Model UVC-G6-Bullet-W
TRIGGER:-PT10M
END:VALARM
END:VEVENT
END:VCALENDAR