BEGIN:VCALENDAR
VERSION:2.0
PRODID:-//Goldgrube//myauktion.com//AT
CALSCALE:GREGORIAN
BEGIN:VEVENT
DTSTART:20260506T094800
DTEND:20260506T094830
LOCATION:Gewerbepark 13, 8562 Mooskirchen
DTSTAMP:20260422T224014
SUMMARY:MyAuktion: Ablauf Artikel Nr. 956978 CleanFilter Replacement filter Set
URL;VALUE=URI:https://www.myauktion.com/versteigerung7656-position2442818-cleanfilter-replacement-filter-set.php
DESCRIPTION:
UID:myauktion-7656-2442818
BEGIN:VALARM
ACTION:DISPLAY
DESCRIPTION:
TRIGGER:-PT10M
END:VALARM
END:VEVENT
END:VCALENDAR