BEGIN:VCALENDAR
VERSION:2.0
PRODID:-//Goldgrube//myauktion.com//AT
CALSCALE:GREGORIAN
BEGIN:VEVENT
DTSTART:20260506T124800
DTEND:20260506T124830
LOCATION:Gewerbepark 13, 8562 Mooskirchen
DTSTAMP:20260422T224013
SUMMARY:MyAuktion: Ablauf Artikel Nr. 957897 Sostrene Grenes Kerzen Berry Farben ca 12x7cm 
URL;VALUE=URI:https://www.myauktion.com/versteigerung7656-position2442827-sostrene-grenes-kerzen-berry-farben-ca-12x7cm.php
DESCRIPTION:
UID:myauktion-7656-2442827
BEGIN:VALARM
ACTION:DISPLAY
DESCRIPTION:
TRIGGER:-PT10M
END:VALARM
END:VEVENT
END:VCALENDAR