BEGIN:VCALENDAR
VERSION:2.0
PRODID:-//Goldgrube//myauktion.com//AT
CALSCALE:GREGORIAN
BEGIN:VEVENT
DTSTART:20260506T101100
DTEND:20260506T101130
LOCATION:Gewerbepark 13, 8562 Mooskirchen
DTSTAMP:20260424T122012
SUMMARY:MyAuktion: Ablauf Artikel Nr. 956998 Tena Men Active Fit Level2 je 20Stk 
URL;VALUE=URI:https://www.myauktion.com/versteigerung7656-position2442834-tena-men-active-fit-level2-je-20stk.php
DESCRIPTION:
UID:myauktion-7656-2442834
BEGIN:VALARM
ACTION:DISPLAY
DESCRIPTION:
TRIGGER:-PT10M
END:VALARM
END:VEVENT
END:VCALENDAR