BEGIN:VCALENDAR
VERSION:2.0
PRODID:-//Goldgrube//myauktion.com//AT
CALSCALE:GREGORIAN
BEGIN:VEVENT
DTSTART:20260506T101800
DTEND:20260506T101830
LOCATION:Gewerbepark 13, 8562 Mooskirchen
DTSTAMP:20260424T122012
SUMMARY:MyAuktion: Ablauf Artikel Nr. 957001 Beautiona Hard Wax 1000g 
URL;VALUE=URI:https://www.myauktion.com/versteigerung7656-position2442836-beautiona-hard-wax-1000g.php
DESCRIPTION:
UID:myauktion-7656-2442836
BEGIN:VALARM
ACTION:DISPLAY
DESCRIPTION:
TRIGGER:-PT10M
END:VALARM
END:VEVENT
END:VCALENDAR