BEGIN:VCALENDAR
VERSION:2.0
PRODID:-//Goldgrube//myauktion.com//AT
CALSCALE:GREGORIAN
BEGIN:VEVENT
DTSTART:20260506T112900
DTEND:20260506T112930
LOCATION:Gewerbepark 13, 8562 Mooskirchen
DTSTAMP:20260424T122010
SUMMARY:MyAuktion: Ablauf Artikel Nr. 957178 PureLink USB-C to USB-C Kabel
URL;VALUE=URI:https://www.myauktion.com/versteigerung7656-position2442839-purelink-usb-c-to-usb-c-kabel.php
DESCRIPTION:1,50m lang, Model Nr. IS2511-015
UID:myauktion-7656-2442839
BEGIN:VALARM
ACTION:DISPLAY
DESCRIPTION:1,50m lang, Model Nr. IS2511-015
TRIGGER:-PT10M
END:VALARM
END:VEVENT
END:VCALENDAR