BEGIN:VCALENDAR
VERSION:2.0
PRODID:-//Goldgrube//myauktion.com//AT
CALSCALE:GREGORIAN
BEGIN:VEVENT
DTSTART:20260506T125900
DTEND:20260506T125930
LOCATION:Gewerbepark 13, 8562 Mooskirchen
DTSTAMP:20260422T224015
SUMMARY:MyAuktion: Ablauf Artikel Nr. 957905 PTC Wandheizungsgerät Model: HDX-N801 555x155x220mm 
URL;VALUE=URI:https://www.myauktion.com/versteigerung7656-position2442841-ptc-wandheizungsgeraet-model-hdx-n801-555x155x220mm.php
DESCRIPTION:
UID:myauktion-7656-2442841
BEGIN:VALARM
ACTION:DISPLAY
DESCRIPTION:
TRIGGER:-PT10M
END:VALARM
END:VEVENT
END:VCALENDAR