BEGIN:VCALENDAR
VERSION:2.0
PRODID:-//Goldgrube//myauktion.com//AT
CALSCALE:GREGORIAN
BEGIN:VEVENT
DTSTART:20260506T113600
DTEND:20260506T113630
LOCATION:Gewerbepark 13, 8562 Mooskirchen
DTSTAMP:20260424T122010
SUMMARY:MyAuktion: Ablauf Artikel Nr. 957182 Burgwächter Quad Schlüsselkasten
URL;VALUE=URI:https://www.myauktion.com/versteigerung7656-position2442843-burgwaechter-quad-schluesselkasten.php
DESCRIPTION:Ca 21×23cm, Model No. QUAD 6204/10 Ni
UID:myauktion-7656-2442843
BEGIN:VALARM
ACTION:DISPLAY
DESCRIPTION:Ca 21×23cm, Model No. QUAD 6204/10 Ni
TRIGGER:-PT10M
END:VALARM
END:VEVENT
END:VCALENDAR