BEGIN:VCALENDAR
VERSION:2.0
PRODID:-//Goldgrube//myauktion.com//AT
CALSCALE:GREGORIAN
BEGIN:VEVENT
DTSTART:20260426T091800
DTEND:20260426T091830
LOCATION:Gewerbepark 13, 8562 Mooskirchen
DTSTAMP:20260421T200029
SUMMARY:MyAuktion: Ablauf Artikel Nr. 956280 Steirer Quell Mild 12x0.5l 
URL;VALUE=URI:https://www.myauktion.com/versteigerung7657-position2443002-steirer-quell-mild-12x05l.php
DESCRIPTION:Mhd 16.04.26. Pfrand wird extra verrechnet.
UID:myauktion-7657-2443002
BEGIN:VALARM
ACTION:DISPLAY
DESCRIPTION:Mhd 16.04.26. Pfrand wird extra verrechnet.
TRIGGER:-PT10M
END:VALARM
END:VEVENT
END:VCALENDAR