BEGIN:VCALENDAR
VERSION:2.0
PRODID:-//Goldgrube//myauktion.com//AT
CALSCALE:GREGORIAN
BEGIN:VEVENT
DTSTART:20260426T090500
DTEND:20260426T090530
LOCATION:Gewerbepark 13, 8562 Mooskirchen
DTSTAMP:20260421T203900
SUMMARY:MyAuktion: Ablauf Artikel Nr. 925662 Lorenz NicNac&#39;s Sour Cream Style 14x110g
URL;VALUE=URI:https://www.myauktion.com/versteigerung7658-position2443012-lorenz-nicnac-39s-sour-cream-style-14x110g.php
DESCRIPTION:MHD: 30.06.2026
UID:myauktion-7658-2443012
BEGIN:VALARM
ACTION:DISPLAY
DESCRIPTION:MHD: 30.06.2026
TRIGGER:-PT10M
END:VALARM
END:VEVENT
END:VCALENDAR