BEGIN:VCALENDAR
VERSION:2.0
PRODID:-//Goldgrube//myauktion.com//AT
CALSCALE:GREGORIAN
BEGIN:VEVENT
DTSTART:20260426T091500
DTEND:20260426T091530
LOCATION:Gewerbepark 13, 8562 Mooskirchen
DTSTAMP:20260421T203857
SUMMARY:MyAuktion: Ablauf Artikel Nr. 925663 Lorenz Saltletts Crunchy Bites Rosmarin 16x100g
URL;VALUE=URI:https://www.myauktion.com/versteigerung7658-position2443021-lorenz-saltletts-crunchy-bites-rosmarin-16x100g.php
DESCRIPTION:MHD: 05.06.2026
UID:myauktion-7658-2443021
BEGIN:VALARM
ACTION:DISPLAY
DESCRIPTION:MHD: 05.06.2026
TRIGGER:-PT10M
END:VALARM
END:VEVENT
END:VCALENDAR