BEGIN:VCALENDAR
VERSION:2.0
PRODID:-//Goldgrube//myauktion.com//AT
CALSCALE:GREGORIAN
BEGIN:VEVENT
DTSTART:20260426T092200
DTEND:20260426T092230
LOCATION:Gewerbepark 13, 8562 Mooskirchen
DTSTAMP:20260421T203908
SUMMARY:MyAuktion: Ablauf Artikel Nr. 925664 Lorenz Crunchips Stackers Paprika 14x175g
URL;VALUE=URI:https://www.myauktion.com/versteigerung7658-position2443033-lorenz-crunchips-stackers-paprika-14x175g.php
DESCRIPTION:MHD: 30.07.2026
UID:myauktion-7658-2443033
BEGIN:VALARM
ACTION:DISPLAY
DESCRIPTION:MHD: 30.07.2026
TRIGGER:-PT10M
END:VALARM
END:VEVENT
END:VCALENDAR