BEGIN:VCALENDAR
VERSION:2.0
PRODID:-//Goldgrube//myauktion.com//AT
CALSCALE:GREGORIAN
BEGIN:VEVENT
DTSTART:20260426T094000
DTEND:20260426T094030
LOCATION:Gewerbepark 13, 8562 Mooskirchen
DTSTAMP:20260421T203909
SUMMARY:MyAuktion: Ablauf Artikel Nr. 925665 Lorenz Crunchips Red Chili 10x150g
URL;VALUE=URI:https://www.myauktion.com/versteigerung7658-position2443036-lorenz-crunchips-red-chili-10x150g.php
DESCRIPTION:MHD: 27.05.2026
UID:myauktion-7658-2443036
BEGIN:VALARM
ACTION:DISPLAY
DESCRIPTION:MHD: 27.05.2026
TRIGGER:-PT10M
END:VALARM
END:VEVENT
END:VCALENDAR