BEGIN:VCALENDAR
VERSION:2.0
PRODID:-//Goldgrube//myauktion.com//AT
CALSCALE:GREGORIAN
BEGIN:VEVENT
DTSTART:20260426T094900
DTEND:20260426T094930
LOCATION:Gewerbepark 13, 8562 Mooskirchen
DTSTAMP:20260421T203907
SUMMARY:MyAuktion: Ablauf Artikel Nr. 925666 Lorenz Pommels Original 12x75g
URL;VALUE=URI:https://www.myauktion.com/versteigerung7658-position2443047-lorenz-pommels-original-12x75g.php
DESCRIPTION:MHD: 21.05.2026
UID:myauktion-7658-2443047
BEGIN:VALARM
ACTION:DISPLAY
DESCRIPTION:MHD: 21.05.2026
TRIGGER:-PT10M
END:VALARM
END:VEVENT
END:VCALENDAR