BEGIN:VCALENDAR
VERSION:2.0
PRODID:-//Goldgrube//myauktion.com//AT
CALSCALE:GREGORIAN
BEGIN:VEVENT
DTSTART:20260426T100000
DTEND:20260426T100030
LOCATION:Gewerbepark 13, 8562 Mooskirchen
DTSTAMP:20260421T203905
SUMMARY:MyAuktion: Ablauf Artikel Nr. 925667 Lorenz Saltletts Crunchy Bites Paprika 16x100g
URL;VALUE=URI:https://www.myauktion.com/versteigerung7658-position2443056-lorenz-saltletts-crunchy-bites-paprika-16x100g.php
DESCRIPTION:MHD: 01.05.2026
UID:myauktion-7658-2443056
BEGIN:VALARM
ACTION:DISPLAY
DESCRIPTION:MHD: 01.05.2026
TRIGGER:-PT10M
END:VALARM
END:VEVENT
END:VCALENDAR