BEGIN:VCALENDAR
VERSION:2.0
PRODID:-//Goldgrube//myauktion.com//AT
CALSCALE:GREGORIAN
BEGIN:VEVENT
DTSTART:20260426T100100
DTEND:20260426T100130
LOCATION:Gewerbepark 13, 8562 Mooskirchen
DTSTAMP:20260421T220002
SUMMARY:MyAuktion: Ablauf Artikel Nr. 925668 Lorenz Erdnuß Locken Classic 12x150g
URL;VALUE=URI:https://www.myauktion.com/versteigerung7658-position2443074-lorenz-erdnuss-locken-classic-12x150g.php
DESCRIPTION:MHD: 20.05.2026
UID:myauktion-7658-2443074
BEGIN:VALARM
ACTION:DISPLAY
DESCRIPTION:MHD: 20.05.2026
TRIGGER:-PT10M
END:VALARM
END:VEVENT
END:VCALENDAR