BEGIN:VCALENDAR
VERSION:2.0
PRODID:-//Goldgrube//myauktion.com//AT
CALSCALE:GREGORIAN
BEGIN:VEVENT
DTSTART:20260423T090100
DTEND:20260423T090130
LOCATION:Gewerbepark 13, 8562 Mooskirchen
DTSTAMP:20260421T185422
SUMMARY:MyAuktion: Ablauf Artikel Nr. 958047 Diverse Zubehör 
URL;VALUE=URI:https://www.myauktion.com/versteigerung7659-position2443092-diverse-zubehoer.php
DESCRIPTION:Gebraucht, verschmutzt 
UID:myauktion-7659-2443092
BEGIN:VALARM
ACTION:DISPLAY
DESCRIPTION:Gebraucht, verschmutzt 
TRIGGER:-PT10M
END:VALARM
END:VEVENT
END:VCALENDAR