BEGIN:VCALENDAR
VERSION:2.0
PRODID:-//Goldgrube//myauktion.com//AT
CALSCALE:GREGORIAN
BEGIN:VEVENT
DTSTART:20260423T090200
DTEND:20260423T090230
LOCATION:Gewerbepark 13, 8562 Mooskirchen
DTSTAMP:20260421T203905
SUMMARY:MyAuktion: Ablauf Artikel Nr. 958412 Diverse Zubehör 
URL;VALUE=URI:https://www.myauktion.com/versteigerung7659-position2443093-diverse-zubehoer.php
DESCRIPTION:Gebraucht, Verschmutzt 
UID:myauktion-7659-2443093
BEGIN:VALARM
ACTION:DISPLAY
DESCRIPTION:Gebraucht, Verschmutzt 
TRIGGER:-PT10M
END:VALARM
END:VEVENT
END:VCALENDAR