BEGIN:VCALENDAR
VERSION:2.0
PRODID:-//Goldgrube//myauktion.com//AT
CALSCALE:GREGORIAN
BEGIN:VEVENT
DTSTART:20260426T160300
DTEND:20260426T160330
LOCATION:Gewerbepark 13, 8562 Mooskirchen
DTSTAMP:20260421T203906
SUMMARY:MyAuktion: Ablauf Artikel Nr. 923580 MINECRAFT, Dein Survival Guide
URL;VALUE=URI:https://www.myauktion.com/versteigerung7662-position2443101-minecraft-dein-survival-guide.php
DESCRIPTION:
UID:myauktion-7662-2443101
BEGIN:VALARM
ACTION:DISPLAY
DESCRIPTION:
TRIGGER:-PT10M
END:VALARM
END:VEVENT
END:VCALENDAR