BEGIN:VCALENDAR
VERSION:2.0
PRODID:-//Goldgrube//myauktion.com//AT
CALSCALE:GREGORIAN
BEGIN:VEVENT
DTSTART:20260426T160900
DTEND:20260426T160930
LOCATION:Gewerbepark 13, 8562 Mooskirchen
DTSTAMP:20260421T203854
SUMMARY:MyAuktion: Ablauf Artikel Nr. 923586 Lustiges Taschenbuch Spezial
URL;VALUE=URI:https://www.myauktion.com/versteigerung7662-position2443107-lustiges-taschenbuch-spezial.php
DESCRIPTION:Band 29
UID:myauktion-7662-2443107
BEGIN:VALARM
ACTION:DISPLAY
DESCRIPTION:Band 29
TRIGGER:-PT10M
END:VALARM
END:VEVENT
END:VCALENDAR